BEGIN:VCALENDAR
VERSION:2.0
CALSCALE:GREGORIAN
PRODID:-//Diputació de Barcelona//DibaCMS//EN
BEGIN:VEVENT
UID:16148
DTSTAMP:20260424T154150
DTSTART:20230506T190000
DTEND:20230506T190000
SUMMARY:NYS Polígon Arts: Vivir el flamenco
LOCATION:C. Cinemàtica, 9 (Pol. Ind. Los Herreros) 08755 Castellbisbal
METHOD:PUBLISH
X-WR-CALNAME:comunicacio@castellbisbal.cat
X-WR-TIMEZONE:Europe/Madrid
DESCRIPTION:A les 19.00 h, a l'empresa ESTEVA

URI:https://www.castellbisbal.cat/actualitat/agenda/nys-poligon-arts-vivir-el-flamenco.html
CLASS:PUBLIC
END:VEVENT
END:VCALENDAR
