BEGIN:VCALENDAR
VERSION:2.0
CALSCALE:GREGORIAN
PRODID:-//Diputació de Barcelona//DibaCMS//EN
BEGIN:VEVENT
UID:16152
DTSTAMP:20260424T080740
DTSTART:20230513T120000
DTEND:20230513T120000
SUMMARY:NYS Polígon Arts: Torras i torres, poemes a la nau
LOCATION:C. Acústica, 5 08755 Castellbisbal
METHOD:PUBLISH
X-WR-CALNAME:comunicacio@castellbisbal.cat
X-WR-TIMEZONE:Europe/Madrid
DESCRIPTION:A les 12.00 h, a l'empresa MANXA

URI:https://www.castellbisbal.cat/actualitat/agenda/nys-poligon-arts-torras-i-torres-poemes-a-la-nau.html
CLASS:PUBLIC
END:VEVENT
END:VCALENDAR
