BEGIN:VCALENDAR
VERSION:2.0
CALSCALE:GREGORIAN
PRODID:-//Diputació de Barcelona//DibaCMS//EN
BEGIN:VEVENT
UID:16155
DTSTAMP:20260424T050202
DTSTART:20230519T190000
DTEND:20230519T190000
SUMMARY:NYS Polígon Arts: Cuina de demostració i degustació
LOCATION:C. Industria, 68 ( Pol. Ind. Comte de Sert ) 08755 Castellbisbal
METHOD:PUBLISH
X-WR-CALNAME:comunicacio@castellbisbal.cat
X-WR-TIMEZONE:Europe/Madrid
DESCRIPTION:A les 19.00 h, a la Masia Can Campanyà

URI:https://www.castellbisbal.cat/actualitat/agenda/nys-poligon-arts-cuina-de-demostracio-i-degustacio.html
CLASS:PUBLIC
END:VEVENT
END:VCALENDAR
