BEGIN:VCALENDAR
VERSION:2.0
CALSCALE:GREGORIAN
PRODID:-//Diputació de Barcelona//DibaCMS//EN
BEGIN:VEVENT
UID:16157
DTSTAMP:20260424T141649
DTSTART:20230428T000000
DTEND:20230521T000000
SUMMARY:NYS Polígon Arts: Exposicions
LOCATION:
METHOD:PUBLISH
X-WR-CALNAME:comunicacio@castellbisbal.cat
X-WR-TIMEZONE:Europe/Madrid
DESCRIPTION:Del 28 d'abril al 21 de maig, diverses ubicacions

URI:https://www.castellbisbal.cat/actualitat/agenda/nys-poligon-arts-exposicions.html
CLASS:PUBLIC
END:VEVENT
END:VCALENDAR
