BEGIN:VCALENDAR
VERSION:2.0
CALSCALE:GREGORIAN
PRODID:-//Diputació de Barcelona//DibaCMS//EN
BEGIN:VEVENT
UID:16158
DTSTAMP:20260424T174448
DTSTART:20230507T100000
DTEND:20230507T100000
SUMMARY:VII Trobada Clàssics Castellbisbal Memorial Ton Juni
LOCATION:
METHOD:PUBLISH
X-WR-CALNAME:comunicacio@castellbisbal.cat
X-WR-TIMEZONE:Europe/Madrid
DESCRIPTION:Durant tot el matí i migdia, al parc de Folch i Torres i a l'av. de Gaudí

URI:https://www.castellbisbal.cat/actualitat/agenda/vii-trobada-classics-castellbisbal-memorial-ton-juni.html
CLASS:PUBLIC
END:VEVENT
END:VCALENDAR
