BEGIN:VCALENDAR
VERSION:2.0
CALSCALE:GREGORIAN
PRODID:-//Diputació de Barcelona//DibaCMS//EN
BEGIN:VEVENT
UID:16160
DTSTAMP:20260425T001611
DTSTART:20230506T170000
DTEND:20230506T170000
SUMMARY:4a Trobada de Bèsties: 30è aniversari de Cuqueta
LOCATION:
METHOD:PUBLISH
X-WR-CALNAME:comunicacio@castellbisbal.cat
X-WR-TIMEZONE:Europe/Madrid
DESCRIPTION:A partir de les 17.00 h, a la plaça de l'Església

URI:https://www.castellbisbal.cat/actualitat/agenda/4a-trobada-de-besties-30e-aniversari-de-cuqueta.html
CLASS:PUBLIC
END:VEVENT
END:VCALENDAR
