BEGIN:VCALENDAR
VERSION:2.0
CALSCALE:GREGORIAN
PRODID:-//Diputació de Barcelona//DibaCMS//EN
BEGIN:VEVENT
UID:16184
DTSTAMP:20260424T174720
DTSTART:20230504T180000
DTEND:20230504T180000
SUMMARY:Tarda de tennis
LOCATION:C. Agricultura, s/n 08755 Castellbisbal
METHOD:PUBLISH
X-WR-CALNAME:comunicacio@castellbisbal.cat
X-WR-TIMEZONE:Europe/Madrid
DESCRIPTION:De 18.00 a 20.00 h, a l'Illa Esportiva

URI:https://www.castellbisbal.cat/actualitat/agenda/tarda-de-tennis.html
CLASS:PUBLIC
END:VEVENT
END:VCALENDAR
