BEGIN:VCALENDAR
VERSION:2.0
CALSCALE:GREGORIAN
PRODID:-//Diputació de Barcelona//DibaCMS//EN
BEGIN:VEVENT
UID:16186
DTSTAMP:20260421T123349
DTSTART:20230517T180000
DTEND:20230517T180000
SUMMARY:Cinefòrum amb Kahoot LGBTIQ+
LOCATION:Carrer Francesc Macià, 64 08755 Castellbisbal
METHOD:PUBLISH
X-WR-CALNAME:comunicacio@castellbisbal.cat
X-WR-TIMEZONE:Europe/Madrid
DESCRIPTION:De 18.00 a 19.00 h, a l'espai jove del PIJ

URI:https://www.castellbisbal.cat/actualitat/agenda/cineforum-amb-kahoot-lgbtiq.html
CLASS:PUBLIC
END:VEVENT
END:VCALENDAR
