BEGIN:VCALENDAR
VERSION:2.0
CALSCALE:GREGORIAN
PRODID:-//Diputació de Barcelona//DibaCMS//EN
BEGIN:VEVENT
UID:16188
DTSTAMP:20260424T205125
DTSTART:20230525T180000
DTEND:20230525T180000
SUMMARY:Gimcana rural
LOCATION:
METHOD:PUBLISH
X-WR-CALNAME:comunicacio@castellbisbal.cat
X-WR-TIMEZONE:Europe/Madrid
DESCRIPTION:De 18.00 a 20.00 h, sortida al camí de Can Galí

URI:https://www.castellbisbal.cat/actualitat/agenda/gimcana-rural.html
CLASS:PUBLIC
END:VEVENT
END:VCALENDAR
