BEGIN:VCALENDAR
VERSION:2.0
CALSCALE:GREGORIAN
PRODID:-//Diputació de Barcelona//DibaCMS//EN
BEGIN:VEVENT
UID:16190
DTSTAMP:20260425T021845
DTSTART:20230513T120000
DTEND:20230513T120000
SUMMARY:XI Fira de la Cervesa Artesana
LOCATION:Plaça de l'Església 08755 Castellbisbal
METHOD:PUBLISH
X-WR-CALNAME:comunicacio@castellbisbal.cat
X-WR-TIMEZONE:Europe/Madrid
DESCRIPTION:A partir de les 12.00 h, al Pati de l'Esbarjo

URI:https://www.castellbisbal.cat/actualitat/agenda/xi-fira-de-la-cervesa-artesana.html
CLASS:PUBLIC
END:VEVENT
END:VCALENDAR
