BEGIN:VCALENDAR
VERSION:2.0
CALSCALE:GREGORIAN
PRODID:-//Diputació de Barcelona//DibaCMS//EN
BEGIN:VEVENT
UID:16201
DTSTAMP:20260424T181917
DTSTART:20230502T000000
DTEND:20230521T000000
SUMMARY:Mostra de fons: literatura, indústria i art contemporani
LOCATION:Av. de Pau Casals, 16 08755 Castellbisbal
METHOD:PUBLISH
X-WR-CALNAME:comunicacio@castellbisbal.cat
X-WR-TIMEZONE:Europe/Madrid
DESCRIPTION:Del 2 al 21 de maig, a la Biblioteca durant el seu horari d'obertura

URI:https://www.castellbisbal.cat/actualitat/agenda/biblioteca/mostra-de-fons-literatura-industria-i-art-contemporani.html
CLASS:PUBLIC
END:VEVENT
END:VCALENDAR
