BEGIN:VCALENDAR
VERSION:2.0
CALSCALE:GREGORIAN
PRODID:-//Diputació de Barcelona//DibaCMS//EN
BEGIN:VEVENT
UID:16202
DTSTAMP:20260424T224659
DTSTART:20230513T113000
DTEND:20230513T113000
SUMMARY:Laboratori creatiu: "La fàbrica somiada"
LOCATION:Av. de Pau Casals, 16 08755 Castellbisbal
METHOD:PUBLISH
X-WR-CALNAME:comunicacio@castellbisbal.cat
X-WR-TIMEZONE:Europe/Madrid
DESCRIPTION:A les 11.30 h, a la Biblioteca

URI:https://www.castellbisbal.cat/actualitat/agenda/biblioteca/laboratori-creatiu-la-fabrica-somiada.html
CLASS:PUBLIC
END:VEVENT
END:VCALENDAR
