BEGIN:VCALENDAR
VERSION:2.0
CALSCALE:GREGORIAN
PRODID:-//Diputació de Barcelona//DibaCMS//EN
BEGIN:VEVENT
UID:16203
DTSTAMP:20260424T194638
DTSTART:20230518T190000
DTEND:20230518T190000
SUMMARY:Presentació del llibre "Tierra" i visita a l'exposició "Miralls de l'oblit"
LOCATION:
METHOD:PUBLISH
X-WR-CALNAME:comunicacio@castellbisbal.cat
X-WR-TIMEZONE:Europe/Madrid
DESCRIPTION:A les 19.00 h, a la Biblioteca

URI:https://www.castellbisbal.cat/actualitat/agenda/biblioteca/presentacio-del-llibre-tierra-i-visita-a-lexposicio-miralls-de-loblit.html
CLASS:PUBLIC
END:VEVENT
END:VCALENDAR
