BEGIN:VCALENDAR
VERSION:2.0
CALSCALE:GREGORIAN
PRODID:-//Diputació de Barcelona//DibaCMS//EN
BEGIN:VEVENT
UID:16206
DTSTAMP:20260424T193105
DTSTART:20230508T000000
DTEND:20230531T000000
SUMMARY:Exposició "Cavall Fort celebra 60 anys"
LOCATION:Av. de Pau Casals, 16 08755 Castellbisbal
METHOD:PUBLISH
X-WR-CALNAME:comunicacio@castellbisbal.cat
X-WR-TIMEZONE:Europe/Madrid
DESCRIPTION:Del 8 al 31 de maig a la Biblioteca, durant el seu horari d'obertura

URI:https://www.castellbisbal.cat/actualitat/agenda/biblioteca/exposicio-cavall-fort-celebra-60-anys.html
CLASS:PUBLIC
END:VEVENT
END:VCALENDAR
