BEGIN:VCALENDAR
VERSION:2.0
CALSCALE:GREGORIAN
PRODID:-//Diputació de Barcelona//DibaCMS//EN
BEGIN:VEVENT
UID:16207
DTSTAMP:20260423T223236
DTSTART:20230603T120000
DTEND:20230603T120000
SUMMARY:Hora del conte en anglès: "Where do you live?"
LOCATION:Av. de Pau Casals, 16 08755 Castellbisbal
METHOD:PUBLISH
X-WR-CALNAME:comunicacio@castellbisbal.cat
X-WR-TIMEZONE:Europe/Madrid
DESCRIPTION:A les 12.00 h, a la Biblioteca

URI:https://www.castellbisbal.cat/actualitat/agenda/biblioteca/hora-del-conte-en-angles-where-do-you-live.html
CLASS:PUBLIC
END:VEVENT
END:VCALENDAR
