BEGIN:VCALENDAR
VERSION:2.0
CALSCALE:GREGORIAN
PRODID:-//Diputació de Barcelona//DibaCMS//EN
BEGIN:VEVENT
UID:16208
DTSTAMP:20260425T021108
DTSTART:20230721T220000
DTEND:20230721T220000
SUMMARY:Capsa de música amb  River Omelet
LOCATION:08755 Castellbisbal
METHOD:PUBLISH
X-WR-CALNAME:comunicacio@castellbisbal.cat
X-WR-TIMEZONE:Europe/Madrid
DESCRIPTION:A les 22.00 h, als jardins de Can Margarit

URI:https://www.castellbisbal.cat/actualitat/agenda/capsa-de-musica-amb-river-omelet.html
CLASS:PUBLIC
END:VEVENT
END:VCALENDAR
