BEGIN:VCALENDAR
VERSION:2.0
CALSCALE:GREGORIAN
PRODID:-//Diputació de Barcelona//DibaCMS//EN
BEGIN:VEVENT
UID:16214
DTSTAMP:20260424T061450
DTSTART:20230507T090000
DTEND:20230507T090000
SUMMARY:Jornada de descoberta ambiental del riu Llobregat
LOCATION:
METHOD:PUBLISH
X-WR-CALNAME:comunicacio@castellbisbal.cat
X-WR-TIMEZONE:Europe/Madrid
DESCRIPTION:A les 9.00 h, a l'àrea de pícnic del Llobregat

URI:https://www.castellbisbal.cat/actualitat/agenda/jornada-de-descoberta-ambiental-del-riu-llobregat.html
CLASS:PUBLIC
END:VEVENT
END:VCALENDAR
