BEGIN:VCALENDAR
VERSION:2.0
CALSCALE:GREGORIAN
PRODID:-//Diputació de Barcelona//DibaCMS//EN
BEGIN:VEVENT
UID:16215
DTSTAMP:20260424T142539
DTSTART:20230507T110000
DTEND:20230507T110000
SUMMARY:Jugatecambiental. Marató de jocs
LOCATION:Parc de l'Ermita 08755 Castellbisbal
METHOD:PUBLISH
X-WR-CALNAME:comunicacio@castellbisbal.cat
X-WR-TIMEZONE:Europe/Madrid
DESCRIPTION:D'11.00 a 13.30 h, al parc de l'Ermita

URI:https://www.castellbisbal.cat/actualitat/agenda/jugatecambiental-marato-de-jocs.html
CLASS:PUBLIC
END:VEVENT
END:VCALENDAR
