BEGIN:VCALENDAR
VERSION:2.0
CALSCALE:GREGORIAN
PRODID:-//Diputació de Barcelona//DibaCMS//EN
BEGIN:VEVENT
UID:16219
DTSTAMP:20260424T045949
DTSTART:20230518T170000
DTEND:20230518T170000
SUMMARY:L'Hora del cafè: "El desenvolupament de la comunicació i el llenguatge"
LOCATION:C. Bellavista 47-49 08755 Castellbisbal
METHOD:PUBLISH
X-WR-CALNAME:comunicacio@castellbisbal.cat
X-WR-TIMEZONE:Europe/Madrid
DESCRIPTION:De 17.00 a 18.00 h, a l'EBM La Caseta

URI:https://www.castellbisbal.cat/actualitat/agenda/lhora-del-cafe-el-desenvolupament-de-la-comunicacio-i-el-llenguatge.html
CLASS:PUBLIC
END:VEVENT
END:VCALENDAR
