BEGIN:VCALENDAR
VERSION:2.0
CALSCALE:GREGORIAN
PRODID:-//Diputació de Barcelona//DibaCMS//EN
BEGIN:VEVENT
UID:16221
DTSTAMP:20260424T234249
DTSTART:20230511T173000
DTEND:20230511T173000
SUMMARY:Taller per a famílies: "Emocions, Xarxes Socials, fills i filles"
LOCATION:Avinguda de Pau Casals, 9 08755 Castellbisbal
METHOD:PUBLISH
X-WR-CALNAME:comunicacio@castellbisbal.cat
X-WR-TIMEZONE:Europe/Madrid
DESCRIPTION:A les 17.30 h, a la sala de plens de l'Ajuntament

URI:https://www.castellbisbal.cat/actualitat/agenda/taller-per-a-families-emocions-xarxes-socials-fills-i-filles.html
CLASS:PUBLIC
END:VEVENT
END:VCALENDAR
