BEGIN:VCALENDAR
VERSION:2.0
CALSCALE:GREGORIAN
PRODID:-//Diputació de Barcelona//DibaCMS//EN
BEGIN:VEVENT
UID:16236
DTSTAMP:20260424T050121
DTSTART:20230920T093000
DTEND:20230920T093000
SUMMARY:Com millorar el teu benestar corporal per a la teva recerca de feina
LOCATION:Av. de Pau Casals, 9 08755 Castellbisbal
METHOD:PUBLISH
X-WR-CALNAME:comunicacio@castellbisbal.cat
X-WR-TIMEZONE:Europe/Madrid
DESCRIPTION:Dues sessions, el 20 i 27 de setembre, de 9.30 a 13.30 h a la sala d'actes de l'Ajuntament

URI:https://www.castellbisbal.cat/actualitat/agenda/16236-com-millorar-el-teu-benestar-corporal-per-a-la-teva-recerca-de-feina.html
CLASS:PUBLIC
END:VEVENT
END:VCALENDAR
