BEGIN:VCALENDAR
VERSION:2.0
CALSCALE:GREGORIAN
PRODID:-//Diputació de Barcelona//DibaCMS//EN
BEGIN:VEVENT
UID:16249
DTSTAMP:20260424T045746
DTSTART:20230519T211500
DTEND:20230519T211500
SUMMARY:Inauguració de la Festa Major Santa Rita 2023
LOCATION:
METHOD:PUBLISH
X-WR-CALNAME:comunicacio@castellbisbal.cat
X-WR-TIMEZONE:Europe/Madrid
DESCRIPTION:A les 21.15 h, al carrer Santa Rita

URI:https://www.castellbisbal.cat/actualitat/agenda/inauguracio-de-la-festa-major-santa-rita-2023.html
CLASS:PUBLIC
END:VEVENT
END:VCALENDAR
