BEGIN:VCALENDAR
VERSION:2.0
CALSCALE:GREGORIAN
PRODID:-//Diputació de Barcelona//DibaCMS//EN
BEGIN:VEVENT
UID:16250
DTSTAMP:20260424T110103
DTSTART:20230519T213000
DTEND:20230519T213000
SUMMARY:Sopar i ball popular
LOCATION:C. Santa Rita, 4 08755 Castellbisbal
METHOD:PUBLISH
X-WR-CALNAME:comunicacio@castellbisbal.cat
X-WR-TIMEZONE:Europe/Madrid
DESCRIPTION:A les 21.30 h, al restaurant Cal Pupinet

URI:https://www.castellbisbal.cat/actualitat/agenda/sopar-i-ball-popular.html
CLASS:PUBLIC
END:VEVENT
END:VCALENDAR
