BEGIN:VCALENDAR
VERSION:2.0
CALSCALE:GREGORIAN
PRODID:-//Diputació de Barcelona//DibaCMS//EN
BEGIN:VEVENT
UID:16251
DTSTAMP:20260424T233335
DTSTART:20230520T100000
DTEND:20230520T100000
SUMMARY:Caminada popular
LOCATION:
METHOD:PUBLISH
X-WR-CALNAME:comunicacio@castellbisbal.cat
X-WR-TIMEZONE:Europe/Madrid
DESCRIPTION:A les 10.00 h, trobada al carrer Santa Rita

URI:https://www.castellbisbal.cat/actualitat/agenda/caminada-popular.html
CLASS:PUBLIC
END:VEVENT
END:VCALENDAR
