BEGIN:VCALENDAR
VERSION:2.0
CALSCALE:GREGORIAN
PRODID:-//Diputació de Barcelona//DibaCMS//EN
BEGIN:VEVENT
UID:16253
DTSTAMP:20260424T145652
DTSTART:20230520T170000
DTEND:20230520T170000
SUMMARY:Tarda de jocs infantils, taller de teatre i xocolatada
LOCATION:
METHOD:PUBLISH
X-WR-CALNAME:comunicacio@castellbisbal.cat
X-WR-TIMEZONE:Europe/Madrid
DESCRIPTION:A partir de les 17.00 h, al carrer Santa Rita

URI:https://www.castellbisbal.cat/actualitat/agenda/tarda-de-jocs-infantils-taller-de-teatre-i-xocolatada.html
CLASS:PUBLIC
END:VEVENT
END:VCALENDAR
