BEGIN:VCALENDAR
VERSION:2.0
CALSCALE:GREGORIAN
PRODID:-//Diputació de Barcelona//DibaCMS//EN
BEGIN:VEVENT
UID:16263
DTSTAMP:20260424T204729
DTSTART:20230520T170000
DTEND:20230520T170000
SUMMARY:Dona sang
LOCATION:Av. de Pau Casals, 9 08755 Castellbisbal
METHOD:PUBLISH
X-WR-CALNAME:comunicacio@castellbisbal.cat
X-WR-TIMEZONE:Europe/Madrid
DESCRIPTION:De 17.00 a 21.00 h, a la sala d'actes de l'Ajuntament

URI:https://www.castellbisbal.cat/actualitat/agenda/dona-sang.html
CLASS:PUBLIC
END:VEVENT
END:VCALENDAR
