BEGIN:VCALENDAR
VERSION:2.0
CALSCALE:GREGORIAN
PRODID:-//Diputació de Barcelona//DibaCMS//EN
BEGIN:VEVENT
UID:16323
DTSTAMP:20260424T074519
DTSTART:20230609T190000
DTEND:20230609T190000
SUMMARY:Contes Desexplicats
LOCATION:Plaça de l'Església 08755 Castellbisbal
METHOD:PUBLISH
X-WR-CALNAME:comunicacio@castellbisbal.cat
X-WR-TIMEZONE:Europe/Madrid
DESCRIPTION:A les 19.00 h, al Pati de l'Esbarjo

URI:https://www.castellbisbal.cat/actualitat/agenda/contes-desexplicats.html
CLASS:PUBLIC
END:VEVENT
END:VCALENDAR
