BEGIN:VCALENDAR
VERSION:2.0
CALSCALE:GREGORIAN
PRODID:-//Diputació de Barcelona//DibaCMS//EN
BEGIN:VEVENT
UID:16351
DTSTAMP:20260424T160948
DTSTART:20230607T000000
DTEND:20230630T000000
SUMMARY:Exposició "Canviem la mirada"
LOCATION:Av. de Pau Casals, 16 08755 Castellbisbal
METHOD:PUBLISH
X-WR-CALNAME:comunicacio@castellbisbal.cat
X-WR-TIMEZONE:Europe/Madrid
DESCRIPTION:Del 7 al 30 de juny a la Biblioteca, durant el seu horari d'obertura

URI:https://www.castellbisbal.cat/actualitat/agenda/biblioteca/exposicio-canviem-la-mirada.html
CLASS:PUBLIC
END:VEVENT
END:VCALENDAR
