BEGIN:VCALENDAR
VERSION:2.0
CALSCALE:GREGORIAN
PRODID:-//Diputació de Barcelona//DibaCMS//EN
BEGIN:VEVENT
UID:16359
DTSTAMP:20260424T050649
DTSTART:20230601T000000
DTEND:20230728T000000
SUMMARY:Exposició a l'Espai de la Plaça
LOCATION:
METHOD:PUBLISH
X-WR-CALNAME:comunicacio@castellbisbal.cat
X-WR-TIMEZONE:Europe/Madrid
DESCRIPTION:De l'1 de juny al 28 de juliol, a l'Espai de la Plaça

URI:https://www.castellbisbal.cat/actualitat/agenda/exposicio-a-lespai-de-la-placa.html
CLASS:PUBLIC
END:VEVENT
END:VCALENDAR
