BEGIN:VCALENDAR
VERSION:2.0
CALSCALE:GREGORIAN
PRODID:-//Diputació de Barcelona//DibaCMS//EN
BEGIN:VEVENT
UID:16368
DTSTAMP:20260424T122942
DTSTART:20230621T180000
DTEND:20230621T180000
SUMMARY:Taller de "lettering"
LOCATION:Carrer Francesc Macià, 64 08755 Castellbisbal
METHOD:PUBLISH
X-WR-CALNAME:comunicacio@castellbisbal.cat
X-WR-TIMEZONE:Europe/Madrid
DESCRIPTION:De 18.00 a 20.00, a l'Àrea Noia del Racó Jove

URI:https://www.castellbisbal.cat/actualitat/agenda/taller-de-lettering.html
CLASS:PUBLIC
END:VEVENT
END:VCALENDAR
