BEGIN:VCALENDAR
VERSION:2.0
CALSCALE:GREGORIAN
PRODID:-//Diputació de Barcelona//DibaCMS//EN
BEGIN:VEVENT
UID:16381
DTSTAMP:20260424T233747
DTSTART:20230710T103000
DTEND:20230710T103000
SUMMARY:Curs de cangurs
LOCATION:Carrer Francesc Macià, 64 08755 Castellbisbal
METHOD:PUBLISH
X-WR-CALNAME:comunicacio@castellbisbal.cat
X-WR-TIMEZONE:Europe/Madrid
DESCRIPTION:De 10.30 a 14.30 h, al Racó Jove

URI:https://www.castellbisbal.cat/actualitat/agenda/16381-curs-de-cangurs.html
CLASS:PUBLIC
END:VEVENT
END:VCALENDAR
