BEGIN:VCALENDAR
VERSION:2.0
CALSCALE:GREGORIAN
PRODID:-//Diputació de Barcelona//DibaCMS//EN
BEGIN:VEVENT
UID:16382
DTSTAMP:20260424T204604
DTSTART:20230711T000000
DTEND:20230713T000000
SUMMARY:Taller d'introducció al japonès
LOCATION:Carrer Francesc Macià, 64 08755 Castellbisbal
METHOD:PUBLISH
X-WR-CALNAME:comunicacio@castellbisbal.cat
X-WR-TIMEZONE:Europe/Madrid
DESCRIPTION:Els dies 11, 12 i 13 de juliol de 16.30 a 18.30 h, al Racó Jove

URI:https://www.castellbisbal.cat/actualitat/agenda/taller-dintroduccio-al-japones.html
CLASS:PUBLIC
END:VEVENT
END:VCALENDAR
