BEGIN:VCALENDAR
VERSION:2.0
CALSCALE:GREGORIAN
PRODID:-//Diputació de Barcelona//DibaCMS//EN
BEGIN:VEVENT
UID:16383
DTSTAMP:20260425T011344
DTSTART:20230714T110000
DTEND:20230714T110000
SUMMARY:Curs de manipuladors/ores d'aliments per a joves
LOCATION:Carrer Francesc Macià, 64 08755 Castellbisbal
METHOD:PUBLISH
X-WR-CALNAME:comunicacio@castellbisbal.cat
X-WR-TIMEZONE:Europe/Madrid
DESCRIPTION:D'11 a 13.00 h, al Racó Jove

URI:https://www.castellbisbal.cat/actualitat/agenda/16383-curs-de-manipuladorsores-daliments-per-a-joves.html
CLASS:PUBLIC
END:VEVENT
END:VCALENDAR
