BEGIN:VCALENDAR
VERSION:2.0
CALSCALE:GREGORIAN
PRODID:-//Diputació de Barcelona//DibaCMS//EN
BEGIN:VEVENT
UID:16387
DTSTAMP:20260424T192436
DTSTART:20230715T000000
DTEND:20230716T000000
SUMMARY:10a Lan Party
LOCATION:Av. de Pau Casals, 16 08755 Castellbisbal
METHOD:PUBLISH
X-WR-CALNAME:comunicacio@castellbisbal.cat
X-WR-TIMEZONE:Europe/Madrid
DESCRIPTION:Des del dia 15 a les 10.00 h fins al dia 16 a les 17.00 h, a la sala d'exposicions d'Els Costals

URI:https://www.castellbisbal.cat/actualitat/agenda/10a-lan-party.html
CLASS:PUBLIC
END:VEVENT
END:VCALENDAR
