BEGIN:VCALENDAR
VERSION:2.0
CALSCALE:GREGORIAN
PRODID:-//Diputació de Barcelona//DibaCMS//EN
BEGIN:VEVENT
UID:16388
DTSTAMP:20260425T030936
DTSTART:20230617T140000
DTEND:20230618T000000
SUMMARY:Romeria Sagrado Corazón 
LOCATION:
METHOD:PUBLISH
X-WR-CALNAME:comunicacio@castellbisbal.cat
X-WR-TIMEZONE:Europe/Madrid
DESCRIPTION:Durant tot el dia, a Can Pedrerol de Dalt

URI:https://www.castellbisbal.cat/actualitat/agenda/romeria-sagrado-corazon-.html
CLASS:PUBLIC
END:VEVENT
END:VCALENDAR
