BEGIN:VCALENDAR
VERSION:2.0
CALSCALE:GREGORIAN
PRODID:-//Diputació de Barcelona//DibaCMS//EN
BEGIN:VEVENT
UID:16389
DTSTAMP:20260424T032257
DTSTART:20230618T140000
DTEND:20230618T220000
SUMMARY:Romeria Sagrado Corazón
LOCATION:
METHOD:PUBLISH
X-WR-CALNAME:comunicacio@castellbisbal.cat
X-WR-TIMEZONE:Europe/Madrid
DESCRIPTION:Durant tot el dia, a Can Pedrerol de Dalt

URI:https://www.castellbisbal.cat/actualitat/agenda/16389-romeria-sagrado-corazon.html
CLASS:PUBLIC
END:VEVENT
END:VCALENDAR
