BEGIN:VCALENDAR
VERSION:2.0
CALSCALE:GREGORIAN
PRODID:-//Diputació de Barcelona//DibaCMS//EN
BEGIN:VEVENT
UID:16390
DTSTAMP:20260424T225452
DTSTART:20230629T170000
DTEND:20230629T170000
SUMMARY:L'hora del cafè: "Anem de vacances!"
LOCATION:C. Bellavista 47-49 08755 Castellbisbal
METHOD:PUBLISH
X-WR-CALNAME:comunicacio@castellbisbal.cat
X-WR-TIMEZONE:Europe/Madrid
DESCRIPTION:De 17.00 a 18.00 h, a La Caseta

URI:https://www.castellbisbal.cat/actualitat/agenda/16390-lhora-del-cafe-anem-de-vacances.html
CLASS:PUBLIC
END:VEVENT
END:VCALENDAR
