BEGIN:VCALENDAR
VERSION:2.0
CALSCALE:GREGORIAN
PRODID:-//Diputació de Barcelona//DibaCMS//EN
BEGIN:VEVENT
UID:16391
DTSTAMP:20260424T194203
DTSTART:20230623T203000
DTEND:20230623T203000
SUMMARY:Sant Joan 2023: Arribada de la Flama de Canigó
LOCATION:Plaça de Catalunya 08755 Castellbisbal
METHOD:PUBLISH
X-WR-CALNAME:comunicacio@castellbisbal.cat
X-WR-TIMEZONE:Europe/Madrid
DESCRIPTION:A les 20.30 h, a la plaça de Catalunya

URI:https://www.castellbisbal.cat/actualitat/agenda/sant-joan-2023-arribada-de-la-flama-de-canigo.html
CLASS:PUBLIC
END:VEVENT
END:VCALENDAR
