BEGIN:VCALENDAR
VERSION:2.0
CALSCALE:GREGORIAN
PRODID:-//Diputació de Barcelona//DibaCMS//EN
BEGIN:VEVENT
UID:16393
DTSTAMP:20260424T161040
DTSTART:20230623T213000
DTEND:20230623T213000
SUMMARY:Sant Joan 2023: Manifest i encesa de la foguera
LOCATION:Parc Folch i Torres 08755 Castellbisbal
METHOD:PUBLISH
X-WR-CALNAME:comunicacio@castellbisbal.cat
X-WR-TIMEZONE:Europe/Madrid
DESCRIPTION:A les 21.30 h, al parc Folch i Torres

URI:https://www.castellbisbal.cat/actualitat/agenda/sant-joan-2023-manifest-i-encesa-de-la-foguera.html
CLASS:PUBLIC
END:VEVENT
END:VCALENDAR
