BEGIN:VCALENDAR
VERSION:2.0
CALSCALE:GREGORIAN
PRODID:-//Diputació de Barcelona//DibaCMS//EN
BEGIN:VEVENT
UID:16394
DTSTAMP:20260424T050757
DTSTART:20230623T220000
DTEND:20230623T220000
SUMMARY:Sant Joan 2023: Sopar a la fresca
LOCATION:08755 Castellbisbal
METHOD:PUBLISH
X-WR-CALNAME:comunicacio@castellbisbal.cat
X-WR-TIMEZONE:Europe/Madrid
DESCRIPTION:A les 22.00 h, a la plaça de l'Església

URI:https://www.castellbisbal.cat/actualitat/agenda/sant-joan-2023-sopar-a-la-fresca.html
CLASS:PUBLIC
END:VEVENT
END:VCALENDAR
