BEGIN:VCALENDAR
VERSION:2.0
CALSCALE:GREGORIAN
PRODID:-//Diputació de Barcelona//DibaCMS//EN
BEGIN:VEVENT
UID:16395
DTSTAMP:20260424T112753
DTSTART:20230623T230000
DTEND:20230623T230000
SUMMARY:Sant Joan 2023: Revetlla amb l'Orquestra Aquarium
LOCATION:08755 Castellbisbal
METHOD:PUBLISH
X-WR-CALNAME:comunicacio@castellbisbal.cat
X-WR-TIMEZONE:Europe/Madrid
DESCRIPTION:A les 23.00 h, a la plaça de l'Església

URI:https://www.castellbisbal.cat/actualitat/agenda/sant-joan-2023-revetlla-amb-lorquestra-aquarium.html
CLASS:PUBLIC
END:VEVENT
END:VCALENDAR
