BEGIN:VCALENDAR
VERSION:2.0
CALSCALE:GREGORIAN
PRODID:-//Diputació de Barcelona//DibaCMS//EN
BEGIN:VEVENT
UID:16397
DTSTAMP:20260424T050555
DTSTART:20230624T020000
DTEND:20230624T020000
SUMMARY:Sant Joan 2023: PD La Trinca
LOCATION:08755 Castellbisbal
METHOD:PUBLISH
X-WR-CALNAME:comunicacio@castellbisbal.cat
X-WR-TIMEZONE:Europe/Madrid
DESCRIPTION:A les 2.00 h, a la plaça de l'Església

URI:https://www.castellbisbal.cat/actualitat/agenda/sant-joan-2023-pd-la-trinca.html
CLASS:PUBLIC
END:VEVENT
END:VCALENDAR
