BEGIN:VCALENDAR
VERSION:2.0
CALSCALE:GREGORIAN
PRODID:-//Diputació de Barcelona//DibaCMS//EN
BEGIN:VEVENT
UID:16398
DTSTAMP:20260424T112948
DTSTART:20230616T203000
DTEND:20230616T203000
SUMMARY:Xerrada: Els nostres gats del carrer 
LOCATION:Carrer Montjuic, 14-20 08755 Castellbisbal
METHOD:PUBLISH
X-WR-CALNAME:comunicacio@castellbisbal.cat
X-WR-TIMEZONE:Europe/Madrid
DESCRIPTION:A les 20.30 h, al centre cívic de Can Santeugini

URI:https://www.castellbisbal.cat/actualitat/agenda/xerrada-els-nostres-gats-del-carrer-.html
CLASS:PUBLIC
END:VEVENT
END:VCALENDAR
