BEGIN:VCALENDAR
VERSION:2.0
CALSCALE:GREGORIAN
PRODID:-//Diputació de Barcelona//DibaCMS//EN
BEGIN:VEVENT
UID:16400
DTSTAMP:20260424T114606
DTSTART:20230610T131500
DTEND:20230610T131500
SUMMARY:Trobada pel 30è aniversari de l'Associació Catalana d'Escoles de Música
LOCATION:Av. de Pau Casals, 20 08755 Castellbisbal
METHOD:PUBLISH
X-WR-CALNAME:comunicacio@castellbisbal.cat
X-WR-TIMEZONE:Europe/Madrid
DESCRIPTION:A les 13.15 h, a la pista coberta de l'Escola Mare de Déu de Montserrat

URI:https://www.castellbisbal.cat/actualitat/agenda/trobada-pel-30e-aniversari-de-lassociacio-catalana-descoles-de-musica.html
CLASS:PUBLIC
END:VEVENT
END:VCALENDAR
