BEGIN:VCALENDAR
VERSION:2.0
CALSCALE:GREGORIAN
PRODID:-//Diputació de Barcelona//DibaCMS//EN
BEGIN:VEVENT
UID:21704
DTSTAMP:20260424T142348
DTSTART:20230621T100000
DTEND:20230621T100000
SUMMARY:Xerrada: "Estafes a través d'internet i telefonia mòbil"
LOCATION:Carrer de Sant Joan, 2 08755 Castellbisbal
METHOD:PUBLISH
X-WR-CALNAME:comunicacio@castellbisbal.cat
X-WR-TIMEZONE:Europe/Madrid
DESCRIPTION:A les 10.00 h, a l'Espai de la Plaça

URI:https://www.castellbisbal.cat/actualitat/agenda/xerrada-estafes-a-traves-dinternet-i-telefonia-mobil.html
CLASS:PUBLIC
END:VEVENT
END:VCALENDAR
