BEGIN:VCALENDAR
VERSION:2.0
CALSCALE:GREGORIAN
PRODID:-//Diputació de Barcelona//DibaCMS//EN
BEGIN:VEVENT
UID:21707
DTSTAMP:20260423T093954
DTSTART:20240411T083000
DTEND:20240411T083000
SUMMARY:Ple extraordinari
LOCATION:Avinguda de Pau Casals, 9 08755 Castellbisbal
METHOD:PUBLISH
X-WR-CALNAME:comunicacio@castellbisbal.cat
X-WR-TIMEZONE:Europe/Madrid
DESCRIPTION:A les 08.30 h, a la sala de plens de l'Ajuntament

URI:https://www.castellbisbal.cat/actualitat/agenda/21707-ple-extraordinari.html
CLASS:PUBLIC
END:VEVENT
END:VCALENDAR
