BEGIN:VCALENDAR
VERSION:2.0
CALSCALE:GREGORIAN
PRODID:-//Diputació de Barcelona//DibaCMS//EN
BEGIN:VEVENT
UID:21708
DTSTAMP:20260424T135916
DTSTART:20230617T100000
DTEND:20230617T100000
SUMMARY:Recollida de llenya per Sant Joan
LOCATION:
METHOD:PUBLISH
X-WR-CALNAME:comunicacio@castellbisbal.cat
X-WR-TIMEZONE:Europe/Madrid
DESCRIPTION:A les 10.00 h, al bosc d'Agripina

URI:https://www.castellbisbal.cat/actualitat/agenda/recollida-de-llenya-per-sant-joan.html
CLASS:PUBLIC
END:VEVENT
END:VCALENDAR
