BEGIN:VCALENDAR
VERSION:2.0
CALSCALE:GREGORIAN
PRODID:-//Diputació de Barcelona//DibaCMS//EN
BEGIN:VEVENT
UID:21710
DTSTAMP:20260424T032913
DTSTART:20230623T223000
DTEND:20230623T223000
SUMMARY:Revetlla de Sant Joan a Can Santeugini
LOCATION:C.Montjuïc 14-20  08755 Castellbisbal
METHOD:PUBLISH
X-WR-CALNAME:comunicacio@castellbisbal.cat
X-WR-TIMEZONE:Europe/Madrid
DESCRIPTION:A partir de les 22.30 h, al Bar Casal Can Santeugini

URI:https://www.castellbisbal.cat/actualitat/agenda/21710-revetlla-de-sant-joan-a-can-santeugini.html
CLASS:PUBLIC
END:VEVENT
END:VCALENDAR
