BEGIN:VCALENDAR
VERSION:2.0
CALSCALE:GREGORIAN
PRODID:-//Diputació de Barcelona//DibaCMS//EN
BEGIN:VEVENT
UID:21712
DTSTAMP:20260425T012732
DTSTART:20230620T000000
DTEND:20230630T000000
SUMMARY:Matrícula cursos d'estiu a l'Espai d'Adults
LOCATION:Institut-escola Les Vinyes (c. Dr. Llarc) 08755 Castellbisbal
METHOD:PUBLISH
X-WR-CALNAME:comunicacio@castellbisbal.cat
X-WR-TIMEZONE:Europe/Madrid
DESCRIPTION:Els dies 20, 21, 22, 27, 28, 29 i 30 de juny

URI:https://www.castellbisbal.cat/actualitat/agenda/matricula-cursos-destiu-a-lespai-dadults.html
CLASS:PUBLIC
END:VEVENT
END:VCALENDAR
