BEGIN:VCALENDAR
VERSION:2.0
CALSCALE:GREGORIAN
PRODID:-//Diputació de Barcelona//DibaCMS//EN
BEGIN:VEVENT
UID:21724
DTSTAMP:20260423T222840
DTSTART:20230701T000000
DTEND:20230701T000000
SUMMARY:Festa Major Santa Teresita 2023
LOCATION:
METHOD:PUBLISH
X-WR-CALNAME:comunicacio@castellbisbal.cat
X-WR-TIMEZONE:Europe/Madrid
DESCRIPTION:A partir de les 20.00 h, al parc de Santa Teresita

URI:https://www.castellbisbal.cat/actualitat/agenda/festa-major-santa-teresita-2023.html
CLASS:PUBLIC
END:VEVENT
END:VCALENDAR
